Workbook
Name Type_of_SIM__tipo_de_SIM: Volumes!$D$2

Sheet Volumes
A1: Country / País | B1: Description / Descripción | C1: Forecast / Cantidades estimadas | D1: SIM / Tipo de SIM | E1: Pre-cut / Tipo de precorte | F1: Scratch / Tipo de Scratch | G1: Label / Tipo de etiqueta | H1: Pocket Guide / Tipo de Guía | I1: Packaging / Tipo de envoltorio | J1: Comments / Comentarios | K1: APPLET | L1: INCOTERM | M1: INCOTERM ADDRESS
A2: ARGENTINA | B2: AR-128K-LTE-R8 1/2-2/3/4FF-BLI-PRE | C2: 3750000 | D2: 128K-LTE-R8 1/2 | E2: Precut 2FF/3FF/4FF | F2: No Scratch | G2: No Label | H2: No guia | I2: Packaging-SIN-Celofan | J2: Movistar Prepago R8 Half Simcard | L2: DDP
A3: ARGENTINA | B3: AR-128K-LTE-R8 1/2-2/3/4FF-BLI-PREDIG | C3: 180000 | D3: 128K-LTE-R8 1/2 | E3: Precut 2FF/3FF/4FF | F3: No Scratch | G3: No Label | H3: No guia | I3: Packaging-SIN-Celofan | J3: Movistar Prepago Digital R8 Half Simcard | L3: DDP
A4: ARGENTINA | B4: AR-128K-LTE-R9 1/2-2/3/4FF-BLI-PRE | C4: 500000 | D4: 128K-LTE-R9 1/2 | E4: Precut 2FF/3FF/4FF | F4: No Scratch | G4: No Label | H4: No guia | I4: Packaging-SIN-Celofan | J4: Movistar Prepago R9 Half Simcard | L4: DDP
A5: ARGENTINA | B5: AR-128K-LTE-R8 1/2-2/3/4FF-BLI-POS | C5: 1750000 | D5: 128K-LTE-R8 1/2 | E5: Precut 2FF/3FF/4FF | F5: No Scratch | G5: No Label | H5: No guia | I5: Packaging-SIN-Celofan | J5: Movistar Pospago R8 Half Simcard | L5: DDP
A6: ARGENTINA | B6: AR-128K-LTE-R9 1/2-2/3/4FF-BLI-POS | C6: 500000 | D6: 128K-LTE-R9 1/2 | E6: Precut 2FF/3FF/4FF | F6: No Scratch | G6: No Label | H6: No guia | I6: Packaging-SIN-Celofan | J6: Movistar Pospago R9 Half Simcard | L6: DDP
A7: ARGENTINA | B7: AR-128K-LTE-R8 1/2-2/3/4FF-BLI-MULTI | C7: 1960000 | D7: 128K-LTE-R8 1/2 | E7: Precut 2FF/3FF/4FF | F7: No Scratch | G7: No Label | H7: No guia | I7: Packaging-SIN-Celofan | J7: Movistar Multitramite R8 Half Simcard | L7: DDP
A8: ARGENTINA | B8: AR-128K-LTE-R6 1/2-2/3/4FF-BLI-TUENTI | C8: 200000 | D8: 128K-LTE-R6 1/2 | E8: Precut 2FF/3FF/4FF | F8: No Scratch | G8: No Label | H8: No guia | I8: Packaging-SIN-Celofan | J8: Simcard Tuenti R6 Half Simcard | L8: DDP
A9: ARGENTINA | B9: AR-128K-LTE-R8 1/2-2/3/4FF-BLI-TUENTI | C9: 630000 | D9: 128K-LTE-R8 1/2 | E9: Precut 2FF/3FF/4FF | F9: No Scratch | G9: No Label | H9: No guia | I9: Packaging-SIN-Celofan | J9: Simcard Tuenti R8 Half Simcard | L9: DDP
A10: ARGENTINA | B10: AR-128K-LTE-R8-2/3/4FF-CEL-GUI-FWT | C10: 130000 | D10: 128K-LTE-R8 | E10: Precut 2FF/3FF/4FF | F10: No Scratch | G10: No Label | H10: Guia | I10: Celofan - no packaging | J10: Simcard FWT volte | L10: DDP
A11: ARGENTINA | B11: AR-ESIM-R8-CEL-GUI | C11: 10000 | D11: eSim Profile + QR Code | E11: No precut | F11: No Scratch | G11: No Label | H11: Guia | I11: Celofan - no packaging | J11: Esim Celofan + Mini guia - FLOW PACK | L11: DDP

Sheet Specifications
A1: Country /pais | B1: Type of Card /Tipo de tarjeta | C1: Forecast /Cantidades estimadas | D1: SIM Card technnical details /Descripción de la tarjeta | E1: Scratch OFF | F1: Packaging details /Descripción del envoltorio | G1: Pre-cut | H1: Guide POCKET - BUCKLET specification /Descripción de la Guía | I1: Label specification / Descripción de la etiqueta | J1: Lead Time / Tiempos de Entrega | K1: Package / EMBALAJE
A2: =Volumes!A2 -> ARGENTINA | B2: =Volumes!B2 -> AR-128K-LTE-R8 1/2-2/3/4FF-BLI-PRE | C2: =Volumes!C2 -> 3750000 | D2: Chip: 128 Kb,Java interoperable. Release 8 Material: ABS / ABS+PVC. Dimensiones: 43 x 54 mm. Acabado: bordes redondeados, Colores: 4 + 4 Información: personalización de PIN1, PUK1, cod de activacion, Iccid | E2: =Volumes!F2 -> No Scratch | F2: Packaging Especial (Ver solapa Photos or designs) | G2: =Volumes!E2 -> Precut 2FF/3FF/4FF | H2: Sin Guía | I2: SIN ETIQUETA | J2: 4 semanas ddp / >= 1.000.000 U. X MES | K2: Caja nivel 1: 50 unidades Caja nivel 2: 5 cajas nivel 1( 250 unidades) Caja nivel 3: 2 cajas nivel 2 (500 unidades)
A3: =Volumes!A3 -> ARGENTINA | B3: =Volumes!B3 -> AR-128K-LTE-R8 1/2-2/3/4FF-BLI-PREDIG | C3: =Volumes!C3 -> 180000 | D3: Chip: 128 Kb,Java interoperable. Release 8 Material: ABS / ABS+PVC. Dimensiones: 43 x 54 mm. Acabado: bordes redondeados, Colores: 4 + 4 Información: personalización de PIN1, PUK1, cod de activacion, Iccid | E3: =Volumes!F3 -> No Scratch | F3: Packaging Especial (Ver solapa Photos or designs) | G3: =Volumes!E3 -> Precut 2FF/3FF/4FF | H3: Sin Guía | I3: SIN ETIQUETA | J3: 4 semanas ddp / >= 1.000.000 U. X MES | K3: Caja nivel 1: 50 unidades Caja nivel 2: 5 cajas nivel 1( 250 unidades) Caja nivel 3: 2 cajas nivel 2 (500 unidades)
A4: =Volumes!A4 -> ARGENTINA | B4: =Volumes!B4 -> AR-128K-LTE-R9 1/2-2/3/4FF-BLI-PRE | C4: =Volumes!C4 -> 500000 | D4: Chip: 128 Kb,Java interoperable. Release 9 Material: ABS / ABS+PVC. Dimensiones: 43 x 54 mm. Acabado: bordes redondeados, Colores: 4 + 4 Información: personalización de PIN1, PUK1, cod de activacion, Iccid | E4: =Volumes!F4 -> No Scratch | F4: Packaging Especial (Ver solapa Photos or designs) | G4: =Volumes!E4 -> Precut 2FF/3FF/4FF | H4: Sin Guía | I4: SIN ETIQUETA | J4: 4 semanas ddp / >= 1.000.000 U. X MES | K4: Caja nivel 1: 50 unidades Caja nivel 2: 5 cajas nivel 1( 250 unidades) Caja nivel 3: 2 cajas nivel 2 (500 unidades)
A5: =Volumes!A5 -> ARGENTINA | B5: =Volumes!B5 -> AR-128K-LTE-R8 1/2-2/3/4FF-BLI-POS | C5: =Volumes!C5 -> 1750000 | D5: Chip: 128 Kb,Java interoperable. Release 8 Material: ABS / ABS+PVC. Dimensiones: 43 x 54 mm. Acabado: bordes redondeados, Colores: 4 + 4 Información: personalización de PIN1, PUK1, cod de activacion, Iccid | E5: =Volumes!F5 -> No Scratch | F5: Packaging Especial (Ver solapa Photos or designs) | G5: =Volumes!E5 -> Precut 2FF/3FF/4FF | H5: Sin Guía | I5: SIN ETIQUETA | J5: 4 semanas ddp / >= 1.000.000 U. X MES | K5: Caja nivel 1: 50 unidades Caja nivel 2: 5 cajas nivel 1( 250 unidades) Caja nivel 3: 2 cajas nivel 2 (500 unidades)
A6: =Volumes!A6 -> ARGENTINA | B6: =Volumes!B6 -> AR-128K-LTE-R9 1/2-2/3/4FF-BLI-POS | C6: =Volumes!C6 -> 500000 | D6: Chip: 128 Kb,Java interoperable. Release 9 Material: ABS / ABS+PVC. Dimensiones: 43 x 54 mm. Acabado: bordes redondeados, Colores: 4 + 4 Información: personalización de PIN1, PUK1, cod de activacion, Iccid | E6: =Volumes!F6 -> No Scratch | F6: Packaging Especial (Ver solapa Photos or designs) | G6: =Volumes!E6 -> Precut 2FF/3FF/4FF | H6: Sin Guía | I6: SIN ETIQUETA | J6: 4 semanas ddp / >= 1.000.000 U. X MES | K6: Caja nivel 1: 50 unidades Caja nivel 2: 5 cajas nivel 1( 250 unidades) Caja nivel 3: 2 cajas nivel 2 (500 unidades)
A7: =Volumes!A7 -> ARGENTINA | B7: =Volumes!B7 -> AR-128K-LTE-R8 1/2-2/3/4FF-BLI-MULTI | C7: =Volumes!C7 -> 1960000 | D7: Chip: 128 Kb,Java interoperable. Release 8 Material: ABS / ABS+PVC. Dimensiones: 43 x 54 mm. Acabado: bordes redondeados, Colores: 4 + 4 Información: personalización de PIN1, PUK1, cod de activacion, Iccid | E7: =Volumes!F7 -> No Scratch | F7: Packaging Especial (Ver solapa Photos or designs) | G7: =Volumes!E7 -> Precut 2FF/3FF/4FF | H7: Sin Guía | I7: SIN ETIQUETA | J7: 4 semanas ddp / >= 1.000.000 U. X MES | K7: Caja nivel 1: 50 unidades Caja nivel 2: 5 cajas nivel 1( 250 unidades) Caja nivel 3: 2 cajas nivel 2 (500 unidades)
A8: =Volumes!A8 -> ARGENTINA | B8: =Volumes!B8 -> AR-128K-LTE-R6 1/2-2/3/4FF-BLI-TUENTI | C8: =Volumes!C8 -> 200000 | D8: Chip: 128 Kb,Java interoperable. Release 6 Material: ABS / ABS+PVC. Dimensiones: 43 x 54 mm. Acabado: bordes redondeados, Colores: 4 + 4 Información: personalización de PIN1, PUK1, cod de activacion, Iccid | E8: =Volumes!F8 -> No Scratch | F8: Packaging Especial (Ver solapa Photos or designs) | G8: =Volumes!E8 -> Precut 2FF/3FF/4FF | H8: Sin Guía | I8: SIN ETIQUETA | J8: 4 semanas ddp / >= 1.000.000 U. X MES | K8: Caja nivel 1: 50 unidades Caja nivel 2: 5 cajas nivel 1( 250 unidades) Caja nivel 3: 2 cajas nivel 2 (500 unidades)
A9: =Volumes!A9 -> ARGENTINA | B9: =Volumes!B9 -> AR-128K-LTE-R8 1/2-2/3/4FF-BLI-TUENTI | C9: =Volumes!C9 -> 630000 | D9: Chip: 128 Kb,Java interoperable. Release 8 Material: ABS / ABS+PVC. Dimensiones: 43 x 54 mm. Acabado: bordes redondeados, Colores: 4 + 4 Información: personalización de PIN1, PUK1, cod de activacion, Iccid | E9: =Volumes!F9 -> No Scratch | F9: Packaging Especial (Ver solapa Photos or designs) | G9: =Volumes!E9 -> Precut 2FF/3FF/4FF | H9: Sin Guía | I9: SIN ETIQUETA | J9: 4 semanas ddp / >= 1.000.000 U. X MES | K9: Caja nivel 1: 50 unidades Caja nivel 2: 5 cajas nivel 1( 250 unidades) Caja nivel 3: 2 cajas nivel 2 (500 unidades)
A10: =Volumes!A10 -> ARGENTINA | B10: =Volumes!B10 -> AR-128K-LTE-R8-2/3/4FF-CEL-GUI-FWT | C10: =Volumes!C10 -> 130000 | D10: Chip: 128 Kb,Java interoperable. Release 8 Material: ABS / ABS+PVC. Dimensiones: 85 x 54 mm. Acabado: bordes redondeados, Colores: 4 + 4 Información: personalización de PIN1, PUK1, cod de activacion, Iccid | E10: =Volumes!F10 -> No Scratch | F10: Material: Polipropileno transparente (celofán) de 25 micrones. Dimensiones: abierto: 92 mm x 124 mm; final: 92 mm largo x 62 mm ancho. Acabado: sellado de frente y reverso, con cierre troquelado (punteado). | G10: =Volumes!E10 -> Precut 2FF/3FF/4FF | H10: ILUSTRACION 125GR. Dimensiones: 85 x 54 mm. Acabado: brillante, bordes redondeados, Colores: 4+4, doble cara personalización: NO REQUIERE | I10: SIN ETIQUETA | J10: 4 semanas ddp / >= 1.000.000 U. X MES | K10: Caja nivel 1: 50 unidades Caja nivel 2: 5 cajas nivel 1( 250 unidades) Caja nivel 3: 2 cajas nivel 2 (500 unidades)
A11: =Volumes!A11 -> ARGENTINA | B11: =Volumes!B11 -> AR-ESIM-R8-CEL-GUI | C11: =Volumes!C11 -> 10000 | D11: Material: ABS / ABS+PVC. Dimensiones: 85 x 54 mm. Acabado: bordes redondeados, Colores: 4 + 4 Información: personalización de PIN1, PUK1, cod de activacion, Iccid y QR code | E11: =Volumes!F11 -> No Scratch | F11: Material: Polipropileno transparente (celofán) de 25 micrones. Dimensiones: abierto: 92 mm x 124 mm; final: 92 mm largo x 62 mm ancho. Acabado: sellado de frente y reverso, con cierre troquelado (punteado). | G11: =Volumes!E11 -> No precut | H11: ILUSTRACION 125GR. Dimensiones: 85 x 108 mm. Acabado: brillante, bordes redondeados, Colores: 4+4, doble cara personalización: NO REQUIERE | I11: SIN ETIQUETA | J11: 4 semanas ddp / >= 1.000.000 U. X MES | K11: Caja nivel 1: 50 unidades Caja nivel 2: 5 cajas nivel 1( 250 unidades) Caja nivel 3: 2 cajas nivel 2 (500 unidades)
A12: =Volumes!A12 -> 0 | B12: =Volumes!B12 -> 0 | C12: =Volumes!C12 -> 0 | E12: =Volumes!F12 -> 0 | G12: =Volumes!E12 -> 0
A13: =Volumes!A13 -> 0 | B13: =Volumes!B13 -> 0 | C13: =Volumes!C13 -> 0 | E13: =Volumes!F13 -> 0 | G13: =Volumes!E13 -> 0
A14: =Volumes!A14 -> 0 | B14: =Volumes!B14 -> 0 | C14: =Volumes!C14 -> 0 | E14: =Volumes!F14 -> 0 | G14: =Volumes!E14 -> 0
A15: =Volumes!A15 -> 0 | B15: =Volumes!B15 -> 0 | C15: =Volumes!C15 -> 0 | E15: =Volumes!F15 -> 0 | G15: =Volumes!E15 -> 0

Sheet Diseños y fotos
A1: PACKAGING ESPECIAL
A2: AR-128K-LTE-R8 1/2-2/3/4FF-BLI-PRE
A3: AR-128K-LTE-R8 1/2-2/3/4FF-BLI-PREDIG
A4: AR-128K-LTE-R9 1/2-2/3/4FF-BLI-PRE
A5: AR-128K-LTE-R8 1/2-2/3/4FF-BLI-POS
A6: AR-128K-LTE-R9 1/2-2/3/4FF-BLI-POS
A7: AR-128K-LTE-R8 1/2-2/3/4FF-BLI-MULTI
A8: AR-128K-LTE-R6 1/2-2/3/4FF-BLI-TUENTI
A9: AR-128K-LTE-R8 1/2-2/3/4FF-BLI-TUENTI
A10: CARDWALLET 90x57mm final, ILUSTRACION 180 GR, 4+4 COLORES,
A11: LA IMAGEN ES REFERENCIAL,
A13: GUIA
... A26: LA IMAGEN ES REFERENCIAL,

Sheet Validación de datos
A1: Sim | B1: 64K-LTE-R5 | D1: Precut | E1: No precut | G1: Scracth | H1: Scratch | J1: ARGENTINA | L1: CIP
A2: Sim | B2: 64K-LTE-R5 1/2 | D2: Precut | E2: Precut 2FF | G2: Scracth | H2: No Scratch | J2: BRASIL | L2: DAP
A3: Sim | B3: 64K-LTE-R6 | D3: Precut | E3: Precut 2FF/3FF | J3: CHILE | L3: DDP
A4: Sim | B4: 128K-LTE-R6 1/2 | D4: Precut | E4: Precut 2FF/3FF/4FF | G4: Label | H4: Label | J4: COLOMBIA | L4: EXW
A5: Sim | B5: 64K-LTE-R8 | D5: Precut | E5: Precut 3FF | G5: Label | H5: No Label | J5: ECUADOR | L5: FCA
A6: Sim | B6: 64K-LTE-R8 1/2 | D6: Precut | E6: Precut 4FF | J6: EL SALVADOR
A7: Sim | B7: 64K-LTE-R9 | D7: Precut | E7: Precut MFF2 | G7: Guia | H7: Guia | J7: GERMANY
A8: Sim | B8: 64K-LTE-R9 1/2 | G8: Guia | H8: No guia | J8: MEXICO
A9: Sim | B9: 64K-LTE NO crypto-R9 | J9: PERU
A10: Sim | B10: 64K-LTE NO crypto-R9 1/2 | G10: Packaging | H10: Celofan - no packaging | J10: SPAIN
A11: Sim | B11: 64K-M2M eUICC v1 PR-R6 | G11: Packaging | H11: Celofan hanger-no packaging | J11: URUGUAY
A12: Sim | B12: 64K-M2M eUICC-R8 | G12: Packaging | H12: Packaging-Celofan | J12: VENEZUELA
A13: Sim | B13: 64K-M2M NORMAL-R5 | G13: Packaging | H13: Packaging-SIN-Celofan | J13: VMO2
A14: Sim | B14: 64K-M2M NORMAL-R6 | G14: Packaging | H14: Sin Packaging
A15: Sim | B15: 64K-M2M NORMAL-R8
A16: Sim | B16: 64K-M2M NORMAL-R8 1/2
A17: Sim | B17: 64K-M2M NORMAL-R9
A18: Sim | B18: 64K-M2M NORMAL-R9 1/2
A19: Sim | B19: 64K-M2M PR 3G-R5
A20: Sim | B20: 64K-M2M PR-R5
A21: Sim | B21: 64K-M2M PR-R6
A22: Sim | B22: 64K-M2M PR-R8
A23: Sim | B23: 64K-M2M PR-R8 1/2
A24: Sim | B24: 64K-M2M PR-R9
A25: Sim | B25: 64K-M2M PR-R9 1/2
A26: Sim | B26: 64K-M2M-VQFN8
... A64: Sim | B64: eSim Profile M2M
